BEGIN:VCALENDAR
VERSION:2.0
PRODID:-//the Electric Power Infrastructure Club of Oklahoma - ECPv6.15.20//NONSGML v1.0//EN
CALSCALE:GREGORIAN
METHOD:PUBLISH
X-WR-CALNAME:the Electric Power Infrastructure Club of Oklahoma
X-ORIGINAL-URL:https://epicok.org
X-WR-CALDESC:Events for the Electric Power Infrastructure Club of Oklahoma
REFRESH-INTERVAL;VALUE=DURATION:PT1H
X-Robots-Tag:noindex
X-PUBLISHED-TTL:PT1H
BEGIN:VTIMEZONE
TZID:America/Chicago
BEGIN:DAYLIGHT
TZOFFSETFROM:-0600
TZOFFSETTO:-0500
TZNAME:CDT
DTSTART:20230312T080000
END:DAYLIGHT
BEGIN:STANDARD
TZOFFSETFROM:-0500
TZOFFSETTO:-0600
TZNAME:CST
DTSTART:20231105T070000
END:STANDARD
BEGIN:DAYLIGHT
TZOFFSETFROM:-0600
TZOFFSETTO:-0500
TZNAME:CDT
DTSTART:20240310T080000
END:DAYLIGHT
BEGIN:STANDARD
TZOFFSETFROM:-0500
TZOFFSETTO:-0600
TZNAME:CST
DTSTART:20241103T070000
END:STANDARD
BEGIN:DAYLIGHT
TZOFFSETFROM:-0600
TZOFFSETTO:-0500
TZNAME:CDT
DTSTART:20250309T080000
END:DAYLIGHT
BEGIN:STANDARD
TZOFFSETFROM:-0500
TZOFFSETTO:-0600
TZNAME:CST
DTSTART:20251102T070000
END:STANDARD
END:VTIMEZONE
BEGIN:VEVENT
DTSTART;TZID=America/Chicago:20241203T190000
DTEND;TZID=America/Chicago:20241203T203000
DTSTAMP:20260420T105845
CREATED:20241118T173107Z
LAST-MODIFIED:20241118T173107Z
UID:1850-1733252400-1733257800@epicok.org
SUMMARY:December 3\, 2024 River Cruise
DESCRIPTION:The Electric Power Infrastructure Club of Oklahoma\nis excited for you and a guest to join us on our exclusive narrated river cruise event \n \nTuesday\, December 3rd on a river boat cruise\nwith a 7pm prompt departure and return at 8:30pm\nExclusive Event – Boat Seating is limited to 35 seats\nDinner included with a cash bar\n\n  \n\nThis is a limited private event for EPIC – We’ll be having a fun time cruising the Oklahoma River with food and drinks. \nBring a guest\, your significant other or a friend. Just remember\, this is a grownups only event. \nParking is included and boat departs sharply at 7pm \nPlease make sure you see the notes at the bottom of the page – they are important! \nPayment\nOnce your payment is received and processed\, you will be emailed your receipt and ticket. Your ticket will have the QR Code on it. \nNotes:\n\nThis is an exclusive event\, there are only 35 seats available.\nBoat leaves the Dock sharply at 7PM\, don’t be late!.\nMake sure that the billing address you enter matches the billing address (ZIP Code and all) for your credit card\, otherwise the transaction will fail.
URL:https://epicok.org/event/river-cruise/
LOCATION:Exchange Landing\, 1503 Exchange Ave\, Oklahoma City\, Oklahoma\, 73108
CATEGORIES:Monthly Meeting
ORGANIZER;CN="Clay Scott":MAILTO:president@epicok.org
END:VEVENT
END:VCALENDAR