BEGIN:VCALENDAR
VERSION:2.0
PRODID:-//the Electric Power Infrastructure Club of Oklahoma - ECPv6.15.20//NONSGML v1.0//EN
CALSCALE:GREGORIAN
METHOD:PUBLISH
X-WR-CALNAME:the Electric Power Infrastructure Club of Oklahoma
X-ORIGINAL-URL:https://epicok.org
X-WR-CALDESC:Events for the Electric Power Infrastructure Club of Oklahoma
REFRESH-INTERVAL;VALUE=DURATION:PT1H
X-Robots-Tag:noindex
X-PUBLISHED-TTL:PT1H
BEGIN:VTIMEZONE
TZID:America/Chicago
BEGIN:DAYLIGHT
TZOFFSETFROM:-0600
TZOFFSETTO:-0500
TZNAME:CDT
DTSTART:20220313T080000
END:DAYLIGHT
BEGIN:STANDARD
TZOFFSETFROM:-0500
TZOFFSETTO:-0600
TZNAME:CST
DTSTART:20221106T070000
END:STANDARD
BEGIN:DAYLIGHT
TZOFFSETFROM:-0600
TZOFFSETTO:-0500
TZNAME:CDT
DTSTART:20230312T080000
END:DAYLIGHT
BEGIN:STANDARD
TZOFFSETFROM:-0500
TZOFFSETTO:-0600
TZNAME:CST
DTSTART:20231105T070000
END:STANDARD
BEGIN:DAYLIGHT
TZOFFSETFROM:-0600
TZOFFSETTO:-0500
TZNAME:CDT
DTSTART:20240310T080000
END:DAYLIGHT
BEGIN:STANDARD
TZOFFSETFROM:-0500
TZOFFSETTO:-0600
TZNAME:CST
DTSTART:20241103T070000
END:STANDARD
END:VTIMEZONE
BEGIN:VEVENT
DTSTART;TZID=America/Chicago:20230912T171500
DTEND;TZID=America/Chicago:20230912T200000
DTSTAMP:20260419T151552
CREATED:20230830T214843Z
LAST-MODIFIED:20240206T220946Z
UID:754-1694538900-1694548800@epicok.org
SUMMARY:September 12\, 2023 Meeting
DESCRIPTION:[Your company can sponsor this meeting and have your logo here] \nThe Electric Power Infrastructure Club of Oklahoma\nis proud to host you at its May 9th\, 2023 Meeting \nOklahoma Electric Vehicle\nInfrastructure Deployment Plan\nby guest speaker \nJared Schwennesen\, P.E.\nMulti-Modal Division Manager\nOklahoma Department of Transportation (ODOT) \n\n\nJared Schwennesen began his tenure with ODOT in 2009 as an Engineer-in-Training. Since then\, he’s held roles in Bridge Division; Traffic Division; Maintenance in ITS and Fiber Optics and Environmental Programs Division\, Assistant to the Director of Capital Programs\, and Division Manager of the Rails Programs. His current position is the Multi-Modal Division Manager. \nIn 2007\, Schwennesen earned his Bachelor of Science degree in Civil Engineering from the University of Oklahoma. In 2008\, He went on to earn his Masters of Science degree in Civil Engineering from OU and joined ODOT soon after. Additionally\, he gained his professional engineering license in 2012. Having worked as a manager and designer in a diverse group of ODOT divisions\, Schwennesen is prepared to lead the Multi-Modal Division as it seeks to improve Oklahoma’s passenger and freight rail systems. \nIn Schwennesen’s time at the department\, he has contributed to special initiatives such as the update of ODOT’s Strategic Plan\, the rollout of OKroads.org\, installation of electric vehicle charging stations\, grant applications and bundling projects. He has also served as the Oklahoma Director of the Board for ITS Heartland. \nFind him on LinkedIn: https://www.linkedin.com/in/jared-schwennesen-28715977/ \n\nPlease make sure you see the notes at the bottom of the page – they are important! \nMeeting Logistics\nWe’ll be meeting only IN PERSON. \nCheck-In\n\n\n\nCheck in using a technology we’ve all become familiar with – a QR Code (see photo to the right). Upon payment and registration completion you will receive a “ticket” in your email that includes a QR Code (similar to the one shown right). Please have that email (or QR Code) pulled up on your mobile device as you prepare to check in to speed up the process. Your code will be scanned at the registration desk and you’ll be checked in. Once checked in\, you can pick up your name tag and drink tickets. Note: that the QR Code is specific to your registration for this meeting and will not work otherwise. Also\, if you purchased Drink Tickets you will also get QR Codes for them\, too. You need not bring those QR Codes\, just the one for your meeting registration.\n\n\n\n\nFlow\nHere’s our evening agenda: \n5:15 PM Social & Networking Hour\n6:15 PM Dinner\n6:45 PM Call to Order\n7:00 PM Guest Speaker\n8:00 PM Meeting Adjourn \nPayment\nOnce your payment is received and processed\, you will be emailed your receipt and ticket. Your ticket will have the QR Code on it. \nNotes:\n\nTable sales end 4 days before the event.\nRegular ticket pricing ends 4 days before the event.\nLATE REGISTRATION starts 4 days before and ends 2 days before the event.\nLog in for Member Pricing (currently active members).\nMake sure that the billing address you enter matches the billing address (ZIP Code and all) for your credit card\, otherwise the transaction will fail.
URL:https://epicok.org/event/september-12-2023-meeting/
LOCATION:Central Oklahoma Home Builders Association\, 420 E Britton Rd\, Oklahoma City\, OK\, 73114\, United States
CATEGORIES:Monthly Meeting
ORGANIZER;CN="Clay Scott":MAILTO:president@epicok.org
END:VEVENT
BEGIN:VEVENT
DTSTART;TZID=America/Chicago:20230808T163000
DTEND;TZID=America/Chicago:20230808T183000
DTSTAMP:20260419T151552
CREATED:20230803T190943Z
LAST-MODIFIED:20230807T211616Z
UID:673-1691512200-1691519400@epicok.org
SUMMARY:August 8 Happy Hour
DESCRIPTION:EPIC Happy Hour!\nCome join us for a time of fun and fellowship as we enjoy a cold one together! \nWe’ll be at Roughtail Brewing Co. on Tuesday\, August 8th from 4:30-6:30pm for our final Happy Hour of the summer! \nWe look forward to seeing you there! \n \n  \nThis is a very casual event and is meant for us to have fun as we get to know each other better. Bring or invite your friends\, coworkers and industry colleagues. \nNotes: \n\nRSVP is not required\, but it is certainly appreciated\nThere’s no additional cost to join us\nYou don’t even have to drink anything if you just want to hang out\nEveryone pays for their own beverages\nNo PDHs will be provided for this event (unless you think you can talk the State Board into accepting them 😁)
URL:https://epicok.org/event/august-8-epic-happy-hour/
LOCATION:Roughtail Brewing Company\, 320 West Memorial Road\, Oklahoma City\, OK\, 73114\, United States
CATEGORIES:Happy Hour Meetup
ORGANIZER;CN="Clay Scott":MAILTO:president@epicok.org
END:VEVENT
BEGIN:VEVENT
DTSTART;TZID=America/Chicago:20230711T163000
DTEND;TZID=America/Chicago:20230711T183000
DTSTAMP:20260419T151552
CREATED:20230706T201621Z
LAST-MODIFIED:20230707T133724Z
UID:611-1689093000-1689100200@epicok.org
SUMMARY:July 11 EPIC Happy Hour
DESCRIPTION:EPIC July Happy Hour!\nCome join us for a time of fun and fellowship as we enjoy a cold one together! \nWe’ll be at McNellie’s  on Tuesday\, July 11th from 4:30-6:30pm for our EPIC July Happy Hour! \nWe look forward to seeing you there! \n \nHere’s a link for more details about McNellie’s: McNellie’s Pub – Oklahoma City – Authentic Irish and Pub Style Bar (mcnellies.com) \nThis is a very casual event and is meant for us to have fun as we get to know each other better. Bring or invite your friends\, coworkers and industry colleagues. \nNotes: \n\nRSVP is not required\, but it is certainly appreciated\nThere’s no additional cost to join us\nYou don’t even have to drink anything if you just want to hang out\nEveryone pays for their own beverages\nNo PDHs will be provided for this event (unless you think you can talk the State Board into accepting them 😁)
URL:https://epicok.org/event/july-11-epic-happy-hour/
LOCATION:McNellie’s Public House\, 1100 Classen Drive\, Oklahoma City\, 73103
CATEGORIES:Happy Hour Meetup
ORGANIZER;CN="Clay Scott":MAILTO:president@epicok.org
END:VEVENT
BEGIN:VEVENT
DTSTART;TZID=America/Chicago:20230613T163000
DTEND;TZID=America/Chicago:20230613T183000
DTSTAMP:20260419T151552
CREATED:20230602T190254Z
LAST-MODIFIED:20230612T160953Z
UID:588-1686673800-1686681000@epicok.org
SUMMARY:June 13 EPIC Happy Hour
DESCRIPTION:First Ever Happy Hour!\nCome join us for a time of fun and fellowship as we enjoy a cold one together! \nWe’ll be at Roughtail Brewing Co. on Tuesday\, June 13th from 4:30-6:30pm for our First Ever Happy Hour! \nWe look forward to seeing you there! \n \nHere’s what currently on tap: https://roughtailbeer.com/taproom/current-taplist/ \nThis is a very casual event and is meant for us to have fun as we get to know each other better. Bring or invite your friends\, coworkers and industry colleagues. \nNotes: \n\nRSVP is not required\, but it is certainly appreciated\nThere’s no additional cost to join us\nYou don’t even have to drink anything if you just want to hang oug\nEveryone pays for their own beverages\nNo PDHs will be provided for this event (unless you think you can talk the State Board into accepting them 😁)
URL:https://epicok.org/event/june-13-2023-happy-hour/
LOCATION:Roughtail Brewing Company\, 320 West Memorial Road\, Oklahoma City\, OK\, 73114\, United States
CATEGORIES:Happy Hour Meetup
ORGANIZER;CN="Clay Scott":MAILTO:president@epicok.org
END:VEVENT
BEGIN:VEVENT
DTSTART;TZID=America/Chicago:20230509T171500
DTEND;TZID=America/Chicago:20230509T200000
DTSTAMP:20260419T151552
CREATED:20230423T203751Z
LAST-MODIFIED:20230428T030639Z
UID:460-1683652500-1683662400@epicok.org
SUMMARY:May 9\, 2023 Meeting
DESCRIPTION:is proud to sponsor the \nMay 9th\, 2023 Meeting\nof the \nElectric Power Infrastructure Club\nof Oklahoma\n\n\nSusan Bohl\nExecutive Director\, OKI811\nMs. Bohl is the Executive Director for Oklahoma One-Call\, also known as OKIE811. OKIE811 is a non-profit corporation established as part of Oklahoma’s Underground Facilities Damage Prevention law intended to keep underground facilities safe from damage and keep people digging around underground lines safe from injury. \nSusan has served in her role for almost 10 years and has over 25 years managing programs\, people and processes. Before coming to OKIE811\, she worked as Chief Operations Officer with Girl Scouts; as Information Technology Director with Oklahoma Department of Human Services\, as Risk Information Manager with Fleming Companies; and in banking with First National Bank of Midwest City. She serves as board chair of a new international association for One-Call Notification Centers. She obtained her Bachelor’s Degree in Business Administration & Computer Science from the University of Central Oklahoma and currently resides in Edmond Oklahoma with her husband\, dog and their honeybees. \nFind her on LinkedIn: https://www.linkedin.com/in/susan-bohl-b71a0360/ \n\nPlease make sure you see the notes at the bottom of the page – they are important! \nMeeting Logistics\nWe’ll be meeting only IN PERSON. \nCheck-In\n\n\n\nCheck in using a technology we’ve all become familiar with – a QR Code (see photo to the right). Upon payment and registration completion you will receive a “ticket” in your email that includes a QR Code (similar to the one shown right). Please have that email (or QR Code) pulled up on your mobile device as you prepare to check in to speed up the process. Your code will be scanned at the registration desk and you’ll be checked in. Once checked in\, you can pick up your name tag and drink tickets. Note: that the QR Code is specific to your registration for this meeting and will not work otherwise. Also\, if you purchased Drink Tickets you will also get QR Codes for them\, too. You need not bring those QR Codes\, just the one for your meeting registration.\n\n\n\n\nFlow\nHere’s our evening agenda: \n5:15 PM Social & Networking Hour\n6:15 PM Dinner\n6:45 PM Call to Order\n7:00 PM Guest Speaker\n8:00 PM Meeting Adjourn \nPayment\nOnce your payment is received and processed\, you will be emailed your receipt and ticket. Your ticket will have the QR Code on it. \nNotes:\n\nTable sales end 4 days before the event.\nRegular ticket pricing ends 4 days before the event.\nLATE REGISTRATION starts 4 days before and ends 2 days before the event.\nLog in for Member Pricing (currently active members).
URL:https://epicok.org/event/may-9-2023-meeting/
LOCATION:Central Oklahoma Home Builders Association\, 420 E Britton Rd\, Oklahoma City\, OK\, 73114\, United States
CATEGORIES:Monthly Meeting
ORGANIZER;CN="Clay Scott":MAILTO:president@epicok.org
END:VEVENT
BEGIN:VEVENT
DTSTART;TZID=America/Chicago:20230411T171500
DTEND;TZID=America/Chicago:20230411T200000
DTSTAMP:20260419T151552
CREATED:20230323T040516Z
LAST-MODIFIED:20230328T181910Z
UID:147-1681233300-1681243200@epicok.org
SUMMARY:Inaugural Meeting
DESCRIPTION:is proud to sponsor the \nInaugural Meeting\nof the \nElectric Power Infrastructure Club\nof Oklahoma\n\nDonnie Jones\nVice President\, Utility Operations\nOklahoma Gas and Electric Company\n\nDonnie Jones serves as Vice President of Utility Operations for Oklahoma Gas and Electric Company. He joined OG&E in June 2008 as the Strategy Implementation Manager and was named Vice President of Power Supply Operations in July 2015. He then assumed the role of VP of Utility Operations on November 4\, 2019. \nPrior to joining OG&E Donnie worked for Dupont\, Conoco\, and ConocoPhillips. Working in Wood River\, Illinois\, Los Angeles\, California and Houston\, Texas. \nJones graduated with a Bachelor of Business degree from Fontbonne University. \nThroughout his professional career\, he has been active in numerous civic and community organizations and currently serving on the board of directors for the Advanced Science and Technology Education Charter School\, YMCA of Oklahoma City\, and the Last Frontier Council\, Boy Scouts of America. He is also a Leadership Oklahoma member. \nDonnie and his wife Jennifer reside in Oklahoma City and they have two adult daughters who live in the OKC Metro as well. \n\nPlease make sure you see the notes at the bottom of the page – they are important! \nMeeting Logistics\nWe’ll be meeting only IN PERSON. \nCheck-In\n\n\n\nCheck in using a technology we’ve all become familiar with – a QR Code (see photo to the right). Upon payment and registration completion you will receive a “ticket” in your email that includes a QR Code (similar to the one shown right). Please have that email (or QR Code) pulled up on your mobile device as you prepare to check in to speed up the process. Your code will be scanned at the registration desk and you’ll be checked in. Once checked in\, you can pick up your name tag and drink tickets. Note: that the QR Code is specific to your registration for this meeting and will not work otherwise. Also\, if you purchased Drink Tickets you will also get QR Codes for them\, too. You need not bring those QR Codes\, just the one for your meeting registration.\n\n\n\n\nFlow\nHere’s our evening agenda: \n5:15 PM Social & Networking Hour\n6:15 PM Dinner\n6:45 PM Call to Order\n7:00 PM Guest Speaker\n8:00 PM Meeting Adjourn \nPayment\nOnce your payment is received and processed\, you will be emailed your receipt and ticket. Your ticket will have the QR Code on it. \nNotes:\n\nTable sales end 4 days before the event.\nRegular ticket pricing ends 4 days before the event.\nLATE REGISTRATION starts 4 days before and ends 2 days before the event.\nLog in for Member Pricing (currently active members).
URL:https://epicok.org/event/inaugural-meeting/
LOCATION:Central Oklahoma Home Builders Association\, 420 E Britton Rd\, Oklahoma City\, OK\, 73114\, United States
CATEGORIES:Monthly Meeting
ORGANIZER;CN="Clay Scott":MAILTO:president@epicok.org
END:VEVENT
END:VCALENDAR