BEGIN:VCALENDAR
VERSION:2.0
PRODID:-//the Electric Power Infrastructure Club of Oklahoma - ECPv6.15.20//NONSGML v1.0//EN
CALSCALE:GREGORIAN
METHOD:PUBLISH
X-WR-CALNAME:the Electric Power Infrastructure Club of Oklahoma
X-ORIGINAL-URL:https://epicok.org
X-WR-CALDESC:Events for the Electric Power Infrastructure Club of Oklahoma
REFRESH-INTERVAL;VALUE=DURATION:PT1H
X-Robots-Tag:noindex
X-PUBLISHED-TTL:PT1H
BEGIN:VTIMEZONE
TZID:America/Chicago
BEGIN:DAYLIGHT
TZOFFSETFROM:-0600
TZOFFSETTO:-0500
TZNAME:CDT
DTSTART:20250309T080000
END:DAYLIGHT
BEGIN:STANDARD
TZOFFSETFROM:-0500
TZOFFSETTO:-0600
TZNAME:CST
DTSTART:20251102T070000
END:STANDARD
BEGIN:DAYLIGHT
TZOFFSETFROM:-0600
TZOFFSETTO:-0500
TZNAME:CDT
DTSTART:20260308T080000
END:DAYLIGHT
BEGIN:STANDARD
TZOFFSETFROM:-0500
TZOFFSETTO:-0600
TZNAME:CST
DTSTART:20261101T070000
END:STANDARD
BEGIN:DAYLIGHT
TZOFFSETFROM:-0600
TZOFFSETTO:-0500
TZNAME:CDT
DTSTART:20270314T080000
END:DAYLIGHT
BEGIN:STANDARD
TZOFFSETFROM:-0500
TZOFFSETTO:-0600
TZNAME:CST
DTSTART:20271107T070000
END:STANDARD
END:VTIMEZONE
BEGIN:VEVENT
DTSTART;TZID=America/Chicago:20260403T073000
DTEND;TZID=America/Chicago:20260403T163000
DTSTAMP:20260419T190710
CREATED:20260218T041934Z
LAST-MODIFIED:20260220T025655Z
UID:2816-1775201400-1775233800@epicok.org
SUMMARY:Volunteer Opportunity - Scholarship Classic Golf Tournament Volunteer
DESCRIPTION:The 2026 Excavation Safety and Scholarship Classic Golf Tournament Needs You!!\nEvery great team has fantastic members. Every great event is executed by excellent teams \nDo you have what it takes to be on our team of Volunteers? (Can you breathe\, move\, help? Then yes\, you do!) \nTy Hartman is our organizer for the tournament and he can use your help.  \nThis is a great opportunity to get involved with the Club\, especially if you’re not a golfer. We have needs with the following: \n\nTournament Check In Assistance\nAssembling the Goody Bags\nSecuring the Trophies and Other Awards\nGetting Event Signs Created\nSecuring Door Prizes\nHelping with Food and Drinks\nClean Up Crew\nTournament Photographer\nODAR (Other Duties As Required)\n\nIf any of these is something you can do\, we’d appreciate your help. It will make this our most successful tournament to date! \nSimply sign up\, at no cost\, for one of these duties and we’ll get you plugged in! 🔌 \nTournament Information\nLocation\n \nLake Hefner Golf Club\n(with a Brand New clubhouse) \nNorth Course4491 S Lake Hefner DriveOklahoma City\, OK 73116 \nEvent Logistics\n\nRegistration 7:30 AM\nShotgun start 8:00 AM\nPrize drawings during/after lunch\nNo outside food\, drinks or coolers.\n\nAll food and drinks must be purchased at the club house or beer cart.\nThe Golf Club will furnish coolers on request.\n\n\n\nLiability Waiver\nBy registering for and/or attending this event\, I assume all risks involved in participating in the Electric Power Infrastructure Club of Oklahoma Golf Tournament and do for myself\, my heirs\, executors\, administrators\, and assignees waive\, release\, and forever discharge any and all rights and claims which may have or which hereafter accrue to me against the Electric Power Infrastructure Club of Oklahoma and Lake Hefner Golf Club\, including its officers or members along with any sponsors and their representatives and successors. All participants required to sign the liability waiver at the tournament check-in. \nPhoto/Video Release\nBy registering for and/or attending our events\, you agree that the Electric Power Infrastructure Club of Oklahoma (“EPIC”) and its representatives may take photographs\, videos\, and other images or audio recordings of you\, and you consent to EPIC’s use of the photographs\, videos\, and other images or audio recordings taken or produced. EPIC may use those items in fundraising\, for marketing and promotional purposes\, and in electronic media for an unlimited time period\, and you will not be entitled to receive any compensation\, payment\, royalty or other remuneration from the Electric Power Infrastructure Club of Oklahoma. If you would like to “opt out” of this release\, please contact president@epicok.org.
URL:https://epicok.org/event/2026-golf-tournament-volunteer/
LOCATION:Private: Lake Hefner Golf Club\, 4491 S Lake Hefner Drive\, Oklahoma City\, OK\, 73116\, United States
CATEGORIES:Golf Tournament
ORGANIZER;CN="Ty Hartman":MAILTO:hartmatl@oge.com
END:VEVENT
BEGIN:VEVENT
DTSTART;TZID=America/Chicago:20260414T171500
DTEND;TZID=America/Chicago:20260414T200000
DTSTAMP:20260419T190710
CREATED:20260407T182908Z
LAST-MODIFIED:20260408T021628Z
UID:2951-1776186900-1776196800@epicok.org
SUMMARY:April 14\, 2026 Dinner Meeting at Cattlemen's
DESCRIPTION:The Electric Power Infrastructure Club of Oklahoma\nis proud to host you at its April 14\, 2026 Dinner Meeting \nSponsored by\n \nFeaturing\nRepublican Candidates for\nOklahoma State Corporation Commissioner\nBrad Boles & Justin Hornback\n  \n \nhttps://bolesforok.com                                  https://hornback2026.com \n  \n  \n  \n\nPlease make sure you see the notes at the bottom of the page – they are important! \nMeeting Logistics\nCheck-In\nPlease sign in at the check-in table. If you need a PDH (PLS’s & PE’s)\, please sign the log form when you check in and your PDH will be emailed to you. \nFlow\nHere’s our evening agenda: \n5:15 PM Social & Networking Hour\n6:15 PM Dinner\n6:45 PM Call to Order\n7:00 PM Guest Speaker\n8:00 PM Meeting Adjourn \nPayment\nOnce your payment is received and processed\, you will be emailed your receipt and ticket. Your ticket will have the QR Code on it. \nNotes:\n\nMake sure to log in before registering. If you have an active membership (Regular/Retiree or Student) you will get member pricing ($25 or $0). Also\, make sure that your membership is currently active!\nTable sales end 2 days before the event.\nRegular ticket pricing ends 2 days before the event.\nLATE REGISTRATION starts 4 days before and ends 2 days before the event.\nMake sure that the billing address you enter matches the billing address (ZIP Code and all) for your credit card\, otherwise the transaction might fail.
URL:https://epicok.org/event/april-14-2026-dinner-meeting/
LOCATION:Cattlemen’s Special Event Center\, 1325 S Agnew Ave\, Oklahoma City\, OK\, 73108\, United States
CATEGORIES:Monthly Meeting
ORGANIZER;CN="Clay Scott":MAILTO:president@epicok.org
END:VEVENT
END:VCALENDAR