BEGIN:VCALENDAR
VERSION:2.0
PRODID:-//the Electric Power Infrastructure Club of Oklahoma - ECPv6.15.20//NONSGML v1.0//EN
CALSCALE:GREGORIAN
METHOD:PUBLISH
X-WR-CALNAME:the Electric Power Infrastructure Club of Oklahoma
X-ORIGINAL-URL:https://epicok.org
X-WR-CALDESC:Events for the Electric Power Infrastructure Club of Oklahoma
REFRESH-INTERVAL;VALUE=DURATION:PT1H
X-Robots-Tag:noindex
X-PUBLISHED-TTL:PT1H
BEGIN:VTIMEZONE
TZID:America/Chicago
BEGIN:DAYLIGHT
TZOFFSETFROM:-0600
TZOFFSETTO:-0500
TZNAME:CDT
DTSTART:20240310T080000
END:DAYLIGHT
BEGIN:STANDARD
TZOFFSETFROM:-0500
TZOFFSETTO:-0600
TZNAME:CST
DTSTART:20241103T070000
END:STANDARD
BEGIN:DAYLIGHT
TZOFFSETFROM:-0600
TZOFFSETTO:-0500
TZNAME:CDT
DTSTART:20250309T080000
END:DAYLIGHT
BEGIN:STANDARD
TZOFFSETFROM:-0500
TZOFFSETTO:-0600
TZNAME:CST
DTSTART:20251102T070000
END:STANDARD
BEGIN:DAYLIGHT
TZOFFSETFROM:-0600
TZOFFSETTO:-0500
TZNAME:CDT
DTSTART:20260308T080000
END:DAYLIGHT
BEGIN:STANDARD
TZOFFSETFROM:-0500
TZOFFSETTO:-0600
TZNAME:CST
DTSTART:20261101T070000
END:STANDARD
END:VTIMEZONE
BEGIN:VEVENT
DTSTART;TZID=America/Chicago:20250114T171500
DTEND;TZID=America/Chicago:20250114T200000
DTSTAMP:20260420T084513
CREATED:20241210T124935Z
LAST-MODIFIED:20241210T124935Z
UID:1900-1736874900-1736884800@epicok.org
SUMMARY:January 14\, 2025 Meeting
DESCRIPTION:The Electric Power Infrastructure Club of Oklahoma\nis proud to host you at its January 14\, 2025 Meeting \n[If your company is interested in sponsoring this event\, register for the Meeting Host Sponsorship]\nFeaturing\nguest speaker \n \nRod Walton\,  \nManaging Editor for Microgrid Knowledge and EnergyTech \n  \nRod Walton is the Managing Editor for the Microgrid Knowledge and EnergyTech websites\, both of which are dedicated to the large customer side of the energy transition equation. He joined Endeavor Business Media in November 2021 as a Senior Editor for EnergyTech\, a digital-only media brand launched in September 2021. In July 2023\, he took on the role of Managing Editor at Microgrid Knowledge. \nRod has extensive experience in energy journalism\, having previously served as a content director for the DISTRIBUTECH and POWERGEN International events. His career spans nearly four decades in journalism and B2B coverage\, including roles as an energy writer and business editor at the Tulsa World. He is a graduate of the University of Oklahoma. \nRod’s work has been featured in numerous publications\, including the Washington Times\, The Oklahoman\, Tulsa World\, Renewable Energy World\, Utility Dive\, Power Grid International\, Electric Utility Operations\, Transmission & Distribution World Magazine\, Data Center Frontier\, and Power Engineering. He is known for his insightful articles on energy storage\, microgrids\, and the broader energy transition. \n \n  \n\nPlease make sure you see the notes at the bottom of the page – they are important! \nMeeting Logistics\nCheck-In\n\n\n\nCheck in using a technology we’ve all become familiar with – a QR Code (see photo to the right). Upon payment and registration completion you will receive a “ticket” in your email that includes a QR Code (similar to the one shown right). Please have that email (or QR Code) pulled up on your mobile device as you prepare to check in to speed up the process. Your code will be scanned at the registration desk and you’ll be checked in. Once checked in\, you can pick up your name tag and drink tickets. Note: that the QR Code is specific to your registration for this meeting and will not work otherwise. Also\, if you purchased Drink Tickets you will also get QR Codes for them\, too. You need not bring those QR Codes\, just the one for your meeting registration.\n\n\n\n\nFlow\nHere’s our evening agenda: \n5:15 PM Social & Networking Hour\n6:15 PM Dinner\n6:45 PM Call to Order\n7:00 PM Guest Speaker\n8:00 PM Meeting Adjourn \nPayment\nOnce your payment is received and processed\, you will be emailed your receipt and ticket. Your ticket will have the QR Code on it. \nNotes:\n\nTable sales end 4 days before the event.\nRegular ticket pricing ends 4 days before the event.\nLATE REGISTRATION starts 4 days before and ends 2 days before the event.\nLog in for Member Pricing (currently active members).\nMake sure that the billing address you enter matches the billing address (ZIP Code and all) for your credit card\, otherwise the transaction will fail.
URL:https://epicok.org/event/january-2025/
LOCATION:Central Oklahoma Home Builders Association\, 420 E Britton Rd\, Oklahoma City\, OK\, 73114\, United States
CATEGORIES:Monthly Meeting
ORGANIZER;CN="Clay Scott":MAILTO:president@epicok.org
END:VEVENT
END:VCALENDAR