BEGIN:VCALENDAR
VERSION:2.0
PRODID:-//the Electric Power Infrastructure Club of Oklahoma - ECPv6.15.20//NONSGML v1.0//EN
CALSCALE:GREGORIAN
METHOD:PUBLISH
X-WR-CALNAME:the Electric Power Infrastructure Club of Oklahoma
X-ORIGINAL-URL:https://epicok.org
X-WR-CALDESC:Events for the Electric Power Infrastructure Club of Oklahoma
REFRESH-INTERVAL;VALUE=DURATION:PT1H
X-Robots-Tag:noindex
X-PUBLISHED-TTL:PT1H
BEGIN:VTIMEZONE
TZID:America/Chicago
BEGIN:DAYLIGHT
TZOFFSETFROM:-0600
TZOFFSETTO:-0500
TZNAME:CDT
DTSTART:20240310T080000
END:DAYLIGHT
BEGIN:STANDARD
TZOFFSETFROM:-0500
TZOFFSETTO:-0600
TZNAME:CST
DTSTART:20241103T070000
END:STANDARD
BEGIN:DAYLIGHT
TZOFFSETFROM:-0600
TZOFFSETTO:-0500
TZNAME:CDT
DTSTART:20250309T080000
END:DAYLIGHT
BEGIN:STANDARD
TZOFFSETFROM:-0500
TZOFFSETTO:-0600
TZNAME:CST
DTSTART:20251102T070000
END:STANDARD
BEGIN:DAYLIGHT
TZOFFSETFROM:-0600
TZOFFSETTO:-0500
TZNAME:CDT
DTSTART:20260308T080000
END:DAYLIGHT
BEGIN:STANDARD
TZOFFSETFROM:-0500
TZOFFSETTO:-0600
TZNAME:CST
DTSTART:20261101T070000
END:STANDARD
END:VTIMEZONE
BEGIN:VEVENT
DTSTART;TZID=America/Chicago:20250311T113000
DTEND;TZID=America/Chicago:20250311T130000
DTSTAMP:20260419T112742
CREATED:20250218T051050Z
LAST-MODIFIED:20250310T151100Z
UID:2111-1741692600-1741698000@epicok.org
SUMMARY:March 11\, 2025 Lunch Meeting
DESCRIPTION:The Electric Power Infrastructure Club of Oklahoma\nis proud to host you at its March 11\, 2025 Lunch Meeting \n[If your company is interested in sponsoring this event\, register for the Meeting Host Sponsorship]\n\nNicole Rhodes\nCEO Center Phase Energy\nNicole Rhodes is a results-driven leader with over 20 years of experience in the electric utility/energy sector\, manufacturing\, and operational excellence. As the Chief Executive Officer at Center Phase Energy\, she oversees strategic growth and innovation while leveraging her extensive expertise in operations\, resource planning\, and leadership development. \nThroughout her career\, Nicole has held critical leadership roles\, including Director of Transmission & Distribution Construction Operations and Resource Planning & Coordination at Oklahoma Gas & Electric (OG&E)\, where she spearheaded transformational initiatives that enhanced operational efficiency\, reliability\, and cost-effectiveness. Her tenure also includes impactful contributions as Director of Process/Manufacturing Engineering at Terex Corporation\, where she implemented lean manufacturing strategies that delivered multimillion-dollar savings. \nNicole’s commitment to excellence extends beyond her professional roles. She is an active Board Member for OKIE811 – Oklahoma One-Call System\, Inc. and previously held a board position for the Urban League of Greater Oklahoma City\, where she contributes her strategic insights to advance organizational missions. Nicole has also been a community investment committee member for The United Way of Greater Oklahoma. \n\n\n  \n\n\n\nPlease make sure you see the notes at the bottom of the page – they are important! \nMeeting Logistics\nPayment\nOnce your payment is received and processed\, you will be emailed your receipt and ticket. Your ticket will have the QR Code on it. \nNotes:\n\nRegular ticket pricing ends 2 days before the event.\nThere is no Member Pricing for this Lunch.\nMake sure that the billing address you enter matches the billing address (ZIP Code and all) for your credit card\, otherwise the transaction will fail.
URL:https://epicok.org/event/march-11-2025-lunch-meeting/
LOCATION:Pearl’s Oyster Bar\, 5641 N Classen Blvd\, Oklahoma City\, 73118\, United States
CATEGORIES:Monthly Meeting
ORGANIZER;CN="Clay Scott":MAILTO:president@epicok.org
END:VEVENT
END:VCALENDAR