BEGIN:VCALENDAR
VERSION:2.0
PRODID:-//the Electric Power Infrastructure Club of Oklahoma - ECPv6.15.20//NONSGML v1.0//EN
CALSCALE:GREGORIAN
METHOD:PUBLISH
X-ORIGINAL-URL:https://epicok.org
X-WR-CALDESC:Events for the Electric Power Infrastructure Club of Oklahoma
REFRESH-INTERVAL;VALUE=DURATION:PT1H
X-Robots-Tag:noindex
X-PUBLISHED-TTL:PT1H
BEGIN:VTIMEZONE
TZID:America/Chicago
BEGIN:DAYLIGHT
TZOFFSETFROM:-0600
TZOFFSETTO:-0500
TZNAME:CDT
DTSTART:20230312T080000
END:DAYLIGHT
BEGIN:STANDARD
TZOFFSETFROM:-0500
TZOFFSETTO:-0600
TZNAME:CST
DTSTART:20231105T070000
END:STANDARD
BEGIN:DAYLIGHT
TZOFFSETFROM:-0600
TZOFFSETTO:-0500
TZNAME:CDT
DTSTART:20240310T080000
END:DAYLIGHT
BEGIN:STANDARD
TZOFFSETFROM:-0500
TZOFFSETTO:-0600
TZNAME:CST
DTSTART:20241103T070000
END:STANDARD
BEGIN:DAYLIGHT
TZOFFSETFROM:-0600
TZOFFSETTO:-0500
TZNAME:CDT
DTSTART:20250309T080000
END:DAYLIGHT
BEGIN:STANDARD
TZOFFSETFROM:-0500
TZOFFSETTO:-0600
TZNAME:CST
DTSTART:20251102T070000
END:STANDARD
END:VTIMEZONE
BEGIN:VEVENT
DTSTART;TZID=America/Chicago:20240910T113000
DTEND;TZID=America/Chicago:20240910T130000
DTSTAMP:20260420T164513
CREATED:20240820T151117Z
LAST-MODIFIED:20240909T160050Z
UID:1654-1725967800-1725973200@epicok.org
SUMMARY:September 10\, 2024 Meeting
DESCRIPTION:The Electric Power Infrastructure Club of Oklahoma\nis proud to host you at its September 10\, 2024 Lunch Meeting \n[If your company is interested in sponsoring this event\, register for the Meeting Host Sponsorship]\nFeaturing\nPanel Discussion on Lidar in the Electric Power Industry \nGuest panelists include: \nBill Swope – Halff (bio info coming soon) \nRusty Steel – CEC (bio info coming soon) \n\n\n\n  \n\n\n\nPlease make sure you see the notes at the bottom of the page – they are important! \nMeeting Logistics\nPayment\nOnce your payment is received and processed\, you will be emailed your receipt and ticket. Your ticket will have the QR Code on it. \nNotes:\n\nRegular ticket pricing ends 4 days before the event.\nLATE REGISTRATION starts 4 days before and ends 2 days before the event.\nLog in for Member Pricing (currently active members).\nMake sure that the billing address you enter matches the billing address (ZIP Code and all) for your credit card\, otherwise the transaction will fail.
URL:https://epicok.org/event/sept-10-2024-meeting-2/
LOCATION:Abuelo’s Mexican Restaurant\, 17 E Sheridan Ave\, Oklahoma City\, OK\, 73104\, United States
CATEGORIES:Monthly Meeting
ORGANIZER;CN="Clay Scott":MAILTO:president@epicok.org
END:VEVENT
END:VCALENDAR