BEGIN:VCALENDAR
VERSION:2.0
PRODID:-//the Electric Power Infrastructure Club of Oklahoma - ECPv6.15.20//NONSGML v1.0//EN
CALSCALE:GREGORIAN
METHOD:PUBLISH
X-ORIGINAL-URL:https://epicok.org
X-WR-CALDESC:Events for the Electric Power Infrastructure Club of Oklahoma
REFRESH-INTERVAL;VALUE=DURATION:PT1H
X-Robots-Tag:noindex
X-PUBLISHED-TTL:PT1H
BEGIN:VTIMEZONE
TZID:America/Chicago
BEGIN:DAYLIGHT
TZOFFSETFROM:-0600
TZOFFSETTO:-0500
TZNAME:CDT
DTSTART:20230312T080000
END:DAYLIGHT
BEGIN:STANDARD
TZOFFSETFROM:-0500
TZOFFSETTO:-0600
TZNAME:CST
DTSTART:20231105T070000
END:STANDARD
BEGIN:DAYLIGHT
TZOFFSETFROM:-0600
TZOFFSETTO:-0500
TZNAME:CDT
DTSTART:20240310T080000
END:DAYLIGHT
BEGIN:STANDARD
TZOFFSETFROM:-0500
TZOFFSETTO:-0600
TZNAME:CST
DTSTART:20241103T070000
END:STANDARD
BEGIN:DAYLIGHT
TZOFFSETFROM:-0600
TZOFFSETTO:-0500
TZNAME:CDT
DTSTART:20250309T080000
END:DAYLIGHT
BEGIN:STANDARD
TZOFFSETFROM:-0500
TZOFFSETTO:-0600
TZNAME:CST
DTSTART:20251102T070000
END:STANDARD
END:VTIMEZONE
BEGIN:VEVENT
DTSTART;TZID=America/Chicago:20240514T171500
DTEND;TZID=America/Chicago:20240514T200000
DTSTAMP:20260421T055613
CREATED:20240503T203135Z
LAST-MODIFIED:20240506T015709Z
UID:1413-1715706900-1715716800@epicok.org
SUMMARY:May 14\, 2024 Meeting
DESCRIPTION:The Electric Power Infrastructure Club of Oklahoma\nis proud to host you at its May 14\, 2024 Meeting \n[If your company is interested in sponsoring this event\, register for the Meeting Host Sponsorship]\nFeaturing\nour guest speaker \n \nBruce Rew\nSenior Vice President\, Operations\nSouthwest Power Pool\n\n\nBruce Rew serves as senior vice president of operations and is responsible for the Southwest Power Pool’s (SPP) real-time operations\, operational planning and analysis support of all reliability coordination\, market operations\, tariff administration and scheduling functions. He has also served as vice president of engineering and in several management and engineering positions since joining the SPP in 1990. \nRew’s notable projects include assisting the SPP’s Regional State Committee in developing a process for allocating transmission costs region-wide\, developing tariff language allowing customers to fund transmission projects and implementing the SPP’s first energy management and tariff billing system. \nPrior to joining the SPP\, Rew served in the United States Air Force as a member of a nuclear missile launch crew. He is a registered professional engineer. \n\n\n\nPlease make sure you see the notes at the bottom of the page – they are important! \nMeeting Logistics\nCheck-In\n\n\n\nCheck in using a technology we’ve all become familiar with – a QR Code (see photo to the right). Upon payment and registration completion you will receive a “ticket” in your email that includes a QR Code (similar to the one shown right). Please have that email (or QR Code) pulled up on your mobile device as you prepare to check in to speed up the process. Your code will be scanned at the registration desk and you’ll be checked in. Once checked in\, you can pick up your name tag and drink tickets. Note: that the QR Code is specific to your registration for this meeting and will not work otherwise. Also\, if you purchased Drink Tickets you will also get QR Codes for them\, too. You need not bring those QR Codes\, just the one for your meeting registration.\n\n\n\n\nFlow\nHere’s our evening agenda: \n5:15 PM Social & Networking Hour\n6:15 PM Dinner\n6:45 PM Call to Order\n7:00 PM Guest Speaker\n8:00 PM Meeting Adjourn \nPayment\nOnce your payment is received and processed\, you will be emailed your receipt and ticket. Your ticket will have the QR Code on it. \nNotes:\n\nTable sales end 4 days before the event.\nRegular ticket pricing ends 4 days before the event.\nLATE REGISTRATION starts 4 days before and ends 2 days before the event.\nLog in for Member Pricing (currently active members).\nMake sure that the billing address you enter matches the billing address (ZIP Code and all) for your credit card\, otherwise the transaction will fail.
URL:https://epicok.org/event/may-14-2024-meeting-2/
LOCATION:Central Oklahoma Home Builders Association\, 420 E Britton Rd\, Oklahoma City\, OK\, 73114\, United States
CATEGORIES:Monthly Meeting
ORGANIZER;CN="Clay Scott":MAILTO:president@epicok.org
END:VEVENT
END:VCALENDAR