BEGIN:VCALENDAR
VERSION:2.0
PRODID:-//the Electric Power Infrastructure Club of Oklahoma - ECPv6.15.20//NONSGML v1.0//EN
CALSCALE:GREGORIAN
METHOD:PUBLISH
X-ORIGINAL-URL:https://epicok.org
X-WR-CALDESC:Events for the Electric Power Infrastructure Club of Oklahoma
REFRESH-INTERVAL;VALUE=DURATION:PT1H
X-Robots-Tag:noindex
X-PUBLISHED-TTL:PT1H
BEGIN:VTIMEZONE
TZID:America/Chicago
BEGIN:DAYLIGHT
TZOFFSETFROM:-0600
TZOFFSETTO:-0500
TZNAME:CDT
DTSTART:20240310T080000
END:DAYLIGHT
BEGIN:STANDARD
TZOFFSETFROM:-0500
TZOFFSETTO:-0600
TZNAME:CST
DTSTART:20241103T070000
END:STANDARD
BEGIN:DAYLIGHT
TZOFFSETFROM:-0600
TZOFFSETTO:-0500
TZNAME:CDT
DTSTART:20250309T080000
END:DAYLIGHT
BEGIN:STANDARD
TZOFFSETFROM:-0500
TZOFFSETTO:-0600
TZNAME:CST
DTSTART:20251102T070000
END:STANDARD
BEGIN:DAYLIGHT
TZOFFSETFROM:-0600
TZOFFSETTO:-0500
TZNAME:CDT
DTSTART:20260308T080000
END:DAYLIGHT
BEGIN:STANDARD
TZOFFSETFROM:-0500
TZOFFSETTO:-0600
TZNAME:CST
DTSTART:20261101T070000
END:STANDARD
END:VTIMEZONE
BEGIN:VEVENT
DTSTART;TZID=America/Chicago:20250819T170000
DTEND;TZID=America/Chicago:20250819T183000
DTSTAMP:20260419T103328
CREATED:20250813T023348Z
LAST-MODIFIED:20250814T031706Z
UID:2374-1755622800-1755628200@epicok.org
SUMMARY:August 19\, 2025 Happy Hour
DESCRIPTION:Join Us for a Cross-Industry Happy Hour!\n\nJoin Us for a Cross-Industry Happy Hour!Hosted by ACEC Oklahoma\, AIA Oklahoma\, AGC Oklahoma and EPIC📍 Fassler Hall\, 421 NS 10th Street\, Oklahoma City📅 Tuesday\, August 19 | 5:00 – 6:30 PM \nACEC Oklahoma\, AIA Oklahoma\, and AGC Oklahoma invite you to a joint happy hour bringing together leadership from across our organizations. This casual\, come-and-go event is a great opportunity to connect\, collaborate\, and strengthen relationships in a fun and relaxed setting. \nWe’ll provide the light bites\, drinks are on your own. Don’t miss this chance to unwind and engage with your peers from across the architecture\, engineering\, and construction industries. \nNo cost to attend\, so register now!
URL:https://epicok.org/event/aug-happy-hour/
LOCATION:fassler hall\, 421 NS 10th Street\, Oklahoma City\, 421 NS 10th Street\, Oklahoma City\, OK\, United States
CATEGORIES:Happy Hour Meetup
END:VEVENT
END:VCALENDAR