BEGIN:VCALENDAR
VERSION:2.0
PRODID:-//the Electric Power Infrastructure Club of Oklahoma - ECPv6.15.20//NONSGML v1.0//EN
CALSCALE:GREGORIAN
METHOD:PUBLISH
X-ORIGINAL-URL:https://epicok.org
X-WR-CALDESC:Events for the Electric Power Infrastructure Club of Oklahoma
REFRESH-INTERVAL;VALUE=DURATION:PT1H
X-Robots-Tag:noindex
X-PUBLISHED-TTL:PT1H
BEGIN:VTIMEZONE
TZID:America/Chicago
BEGIN:DAYLIGHT
TZOFFSETFROM:-0600
TZOFFSETTO:-0500
TZNAME:CDT
DTSTART:20240310T080000
END:DAYLIGHT
BEGIN:STANDARD
TZOFFSETFROM:-0500
TZOFFSETTO:-0600
TZNAME:CST
DTSTART:20241103T070000
END:STANDARD
BEGIN:DAYLIGHT
TZOFFSETFROM:-0600
TZOFFSETTO:-0500
TZNAME:CDT
DTSTART:20250309T080000
END:DAYLIGHT
BEGIN:STANDARD
TZOFFSETFROM:-0500
TZOFFSETTO:-0600
TZNAME:CST
DTSTART:20251102T070000
END:STANDARD
BEGIN:DAYLIGHT
TZOFFSETFROM:-0600
TZOFFSETTO:-0500
TZNAME:CDT
DTSTART:20260308T080000
END:DAYLIGHT
BEGIN:STANDARD
TZOFFSETFROM:-0500
TZOFFSETTO:-0600
TZNAME:CST
DTSTART:20261101T070000
END:STANDARD
END:VTIMEZONE
BEGIN:VEVENT
DTSTART;TZID=America/Chicago:20250328T073000
DTEND;TZID=America/Chicago:20250328T163000
DTSTAMP:20260419T231919
CREATED:20250206T151849Z
LAST-MODIFIED:20250321T013020Z
UID:2054-1743147000-1743179400@epicok.org
SUMMARY:2025 Excavation Safety Classic Golf Tournament
DESCRIPTION:  \nThe 2025 Excavation Safety Classic Golf Tournament\nProudly Hosted by\nThe Electric Power Infrastructure Club of Oklahoma and OKIE811\n[Your Company Logo Could Be Here – Sign up to be the Title Sponsor]\n  \nDo you like having fun? Do you like playing golf? (Those aren’t always the same things\, am I right?). Do you like fellowshipping with your fellow Electric Power Infrastructure and Excavation Industry professionals? Do you like taking your most important clients (or team members) out for a “round of relationship building”? If you answered “yes” (or even “maybe”) to any of these questions\, then this is the golf tournament for you. You get to have fun\, enjoy some fellowship and raise money for a good cause. This is one of our premier events for the year as we conduct business in a fun and casual setting to raise money for the EPIC scholarship program. We have the absolute best sponsors on earth and there’s no reason you should be hungry or thirsty throughout the day. \nPlease make sure you see the note at the bottom of the page – it is important! \nEach participant’s registration includes: \n\nGreen Fees\nGolf Cart\nScoreboard\nScorecard\nBreakfast \nLunch\nand oneheckuvalottafun!\n\nTournament Information\n\n\n\n\nFormat\n\n\nCost\n\n\nCompetitions\n\n\n\n\n🏌🏻‍♀️ 4 Person Scramble\n🏌🏻‍♂️ Par Max Each Hole\n🏌🏻‍♀️ One drink ticket per golfer\n\n\n🏌🏻‍♂️ Individual – $200\n🏌🏻‍♀️ Team (of 4) – $800\n🏌🏻‍♂️ Raffle Tickets – $10 each or a bundle of 15 for $125 Additional Drink Tickets – $5\n\n\n⛳ Best Score\n🏌🏻‍♂️ Closest to the Pin\n🏌🏻‍♀️ Longest Drive\n\n\n\n\nLocation\n \nLincoln Park Golf Club\nEast Course4001 NE Grand BlvdOklahoma City\, OK 73111 \nEvent Logistics\n\nRegistration 7:30 AM\nShotgun start 8:00 AM\nPrize drawings during/after lunch\nNo outside food\, drinks or coolers.\n\nAll food and drinks must be purchased at the club house or beer cart.\nThe Golf Club will furnish coolers on request.\n\n\n\nSponsorship Opportunities\nNote: A 3% credit card fee will be added to the cost to cover processing costs. Checks incur no processing fee. Prices shown are “check” prices. \n\n\n\n\nTitle Sponsor – $5\,000\n\n1 Opportunity – “There can be only one” – Connor MacLeod\, Highlander (1986)\n2 Golf Teams of 4\nTop Sponsor on Event Marketing and Banners\nLogo on Tournament Registration Webpages\n10 Additional Raffle Tickets per Player (that’s 80 tickets!)\n4 Mulligans per Team\nSignage with Company Logo on 1st Tee Box and any Banners\nRecognition at Tournament and Club Meetings\nRecognition During Award Ceremony\nNamed Tournament Sponsor in all our Communications & Social Media Posts \n\n\n\n\n\nPlatinum Sponsor – $4\,000\n\n2 Opportunities\n2 Golf Teams of 4\nLarge Print on Signage & Banners\nSignage w/Company Logo on a Tee Box\n7 Additional Raffle Tickets per Player (that’s 56 tickets!)\n4 Mulligans Per Team\nRecognition Platinum Sponsor During Awards Ceremony\n\n\n\n\n\nGold Sponsor – $2\,500\n\n6 Opportunities\n1 Golf Team of 4\nRegular Print on Signage & Banners\nSignage W/Company Logo on Tee Box\n5 Additional Raffle Tickets per Player\n4 Mulligans\nRecognition Gold Sponsor During Awards Ceremony\n\n\n\nSilver Sponsor – $1\,500\n\n10 Opportunities\n1 Golf Team\nRegular Print on Signage & Banners\nSignage withCompany Logo on Tee Box\n2 Additional Raffle Tickets per Player\n4 Mulligans\nRecognition Silver Sponsor During Awards Ceremony\n\n\n\nBronze Sponsor – $1\,000\n\n12 Opportunities\n1 Golf Team\nRegular Print on Signage & Banners\nSignage W/Company Logo on Tee Box\nRecognition Bronze Sponsor During Awards Ceremony\n\n\n\n\n\nCart Sponsor – $1\,000\n\nCompany Logo on every Golf Cart Score Card\n\n\n\nBeverage Cart Sponsor – $1\,000\n\n1 cart on the course with Sponsor’s Signage with Company Logo\n\n\n\nClub House Sponsor – $1\,000\n\n1 Opportunity\nRegular Print on Signage & Banners\nSignage with Company Logo Along Cart Path\nSet up Table/Booth in the Clubhouse with Meet and Greet All Golfers\n\n\n\n\n\nClosest to the Pin Sponsor – $750\n\n1 Opportunity\nSignage w/Company Logo on Closest to the Pin Hole\n\n\n\nLongest Drive Sponsor – $750\n\n1 Opportunity\nSignage w/Company Logo on Long Drive Hole\n\n\n\nOn Site Hole Sponsor – $500\n\nSignage w/Company Logo On Tee Box\nYou have the option to set up your own tent 🎪 on your sponsored hole ⛳ and you can also place your own banner near the tee box.\n\n\n\n\n\nTee Box Sign Sponsor – $350\n\nSignage w/Company Logo On Tee Box\n\n\n \n \n\n\n\nMeal Cookers – $1\,000\n\n2 Opportunities to Sponsor a Meal (purchased from the Clubhouse)\n\nBreakfast\nLunch\n\n\nIf your company would like to provide the meal with a cooker\, please contact Tournament Organizer for more details\n\n\n\n\n\nLiability Waiver\nBy registering for and/or attending this event\, I assume all risks involved in participating in the Electric Power Infrastructure Club of Oklahoma Golf Tournament and do for myself\, my heirs\, executors\, administrators\, and assignees waive\, release\, and forever discharge any and all rights and claims which may have or which hereafter accrue to me against the Electric Power Infrastructure Club of Oklahoma and Cimarron National Golf Club\, including its officers or members along with any sponsors and their representatives and successors. All participants required to sign the liability waiver at the tournament check-in. \nPhoto/Video Release\nBy registering for and/or attending our events\, you agree that the Electric Power Infrastructure Club of Oklahoma (“EPIC”) and its representatives may take photographs\, videos\, and other images or audio recordings of you\, and you consent to EPIC’s use of the photographs\, videos\, and other images or audio recordings taken or produced. EPIC may use those items in fundraising\, for marketing and promotional purposes\, and in electronic media for an unlimited time period\, and you will not be entitled to receive any compensation\, payment\, royalty or other remuneration from the Electric Power Infrastructure Club of Oklahoma. If you would like to “opt out” of this release\, please contact president@epicok.org. \nPayment\nWe use the credit card processing service\, called Stripe\, to make the payment process much more seamless. Once your payment is received and processed\, you will be emailed your receipt and ticket. For more information\, please contact the tournament organizers. \nNotes:\n\nFor Signage\, your company logo needs to be received by September 12\, 2023.\nPrices shown above are “check” prices.\n\nThe “Pay by Check” option incurs no processing fee. \nA 3% credit card fee will be added to the cost to cover processing costs.\n\n\nYour credit card statement will show a charge from “EPIC Oklahoma” or “EPIC OK”.\nMake sure that the billing address you enter matches the billing address (ZIP Code and all) for your credit card\, otherwise the transaction will fail.\n\n 
URL:https://epicok.org/event/2025-excavation-safety-classic-golf-tournament/
LOCATION:Lincoln Park Golf Course\, 4001 NE Grand Blvd\, Oklahoma City\, OK\, 73111\, United States
CATEGORIES:Golf Tournament
ORGANIZER;CN="Ty Hartman":MAILTO:hartmatl@oge.com
END:VEVENT
END:VCALENDAR