BEGIN:VCALENDAR
VERSION:2.0
PRODID:-//the Electric Power Infrastructure Club of Oklahoma - ECPv6.15.20//NONSGML v1.0//EN
CALSCALE:GREGORIAN
METHOD:PUBLISH
X-WR-CALNAME:the Electric Power Infrastructure Club of Oklahoma
X-ORIGINAL-URL:https://epicok.org
X-WR-CALDESC:Events for the Electric Power Infrastructure Club of Oklahoma
REFRESH-INTERVAL;VALUE=DURATION:PT1H
X-Robots-Tag:noindex
X-PUBLISHED-TTL:PT1H
BEGIN:VTIMEZONE
TZID:America/Chicago
BEGIN:DAYLIGHT
TZOFFSETFROM:-0600
TZOFFSETTO:-0500
TZNAME:CDT
DTSTART:20240310T080000
END:DAYLIGHT
BEGIN:STANDARD
TZOFFSETFROM:-0500
TZOFFSETTO:-0600
TZNAME:CST
DTSTART:20241103T070000
END:STANDARD
BEGIN:DAYLIGHT
TZOFFSETFROM:-0600
TZOFFSETTO:-0500
TZNAME:CDT
DTSTART:20250309T080000
END:DAYLIGHT
BEGIN:STANDARD
TZOFFSETFROM:-0500
TZOFFSETTO:-0600
TZNAME:CST
DTSTART:20251102T070000
END:STANDARD
BEGIN:DAYLIGHT
TZOFFSETFROM:-0600
TZOFFSETTO:-0500
TZNAME:CDT
DTSTART:20260308T080000
END:DAYLIGHT
BEGIN:STANDARD
TZOFFSETFROM:-0500
TZOFFSETTO:-0600
TZNAME:CST
DTSTART:20261101T070000
END:STANDARD
END:VTIMEZONE
BEGIN:VEVENT
DTSTART;TZID=America/Chicago:20250211T113000
DTEND;TZID=America/Chicago:20250211T130000
DTSTAMP:20260419T213010
CREATED:20250204T030022Z
LAST-MODIFIED:20250204T205235Z
UID:2019-1739273400-1739278800@epicok.org
SUMMARY:February 11\, 2025 Lunch Meeting
DESCRIPTION:The Electric Power Infrastructure Club of Oklahoma\nis proud to host you at its February 11\, 2025 Lunch Meeting \n[If your company is interested in sponsoring this event\, register for the Meeting Host Sponsorship]\nFeaturing\n \nGarrett Coffin\, PhD \nGarrett Coffin holds a Bachelor of Engineering in Civil Engineering from Michigan Technological University and a Master of Engineering in Civil Engineering from the University of Washington. In 2025\, he earned his PhD in Civil Engineering from the University of Washington\, furthering his expertise in the field. With 20 years of experience\, Garrett began his career in design-build projects specializing in utilities. He briefly transitioned to the railroad industry for 3 years before returning to SUE/Utility Coordination. In 2024\, Garrett joined Halff Associates as the Deputy Practice Leader for their Subsurface Utility Engineering (SUE) and Utility Coordination practice\, where he specializes providing SUE/UC solutions from their Richardson\, TX office. \nThroughout his career\, Garrett has worked on several significant\, large-scale projects across the United States. He has collaborated with a wide range of utility stakeholders to mitigate conflicts and develop compatibility plans\, accommodation rules\, and utility agreements. Garrett is skilled in integrating relocation tasks and timelines into the design process to minimize costs and prevent schedule delays. \nOutside of work\, Garrett enjoys spending time with his 6-year-old daughter and amazing wife\, as well as playing competitive softball. \n\n\n  \n\n\n\nPlease make sure you see the notes at the bottom of the page – they are important! \nMeeting Logistics\nPayment\nOnce your payment is received and processed\, you will be emailed your receipt and ticket. Your ticket will have the QR Code on it. \nNotes:\n\nRegular ticket pricing ends 2 days before the event.\nThere is no Member Pricing for this Lunch.\nMake sure that the billing address you enter matches the billing address (ZIP Code and all) for your credit card\, otherwise the transaction will fail.
URL:https://epicok.org/event/february-11-2025-lunch-meeting/
LOCATION:Pearl’s Oyster Bar\, 5641 N Classen Blvd\, Oklahoma City\, 73118\, United States
CATEGORIES:Monthly Meeting
ORGANIZER;CN="Clay Scott":MAILTO:president@epicok.org
END:VEVENT
END:VCALENDAR